BEGIN:VCALENDAR
VERSION:2.0
PRODID:-//Humanistic Management Network - ECPv6.15.12.1//NONSGML v1.0//EN
CALSCALE:GREGORIAN
METHOD:PUBLISH
X-WR-CALNAME:Humanistic Management Network
X-ORIGINAL-URL:http://humanisticmanagement.network
X-WR-CALDESC:Events for Humanistic Management Network
REFRESH-INTERVAL;VALUE=DURATION:PT1H
X-Robots-Tag:noindex
X-PUBLISHED-TTL:PT1H
BEGIN:VTIMEZONE
TZID:Europe/Berlin
BEGIN:DAYLIGHT
TZOFFSETFROM:+0100
TZOFFSETTO:+0200
TZNAME:CEST
DTSTART:20210328T010000
END:DAYLIGHT
BEGIN:STANDARD
TZOFFSETFROM:+0200
TZOFFSETTO:+0100
TZNAME:CET
DTSTART:20211031T010000
END:STANDARD
BEGIN:DAYLIGHT
TZOFFSETFROM:+0100
TZOFFSETTO:+0200
TZNAME:CEST
DTSTART:20220327T010000
END:DAYLIGHT
BEGIN:STANDARD
TZOFFSETFROM:+0200
TZOFFSETTO:+0100
TZNAME:CET
DTSTART:20221030T010000
END:STANDARD
BEGIN:DAYLIGHT
TZOFFSETFROM:+0100
TZOFFSETTO:+0200
TZNAME:CEST
DTSTART:20230326T010000
END:DAYLIGHT
BEGIN:STANDARD
TZOFFSETFROM:+0200
TZOFFSETTO:+0100
TZNAME:CET
DTSTART:20231029T010000
END:STANDARD
END:VTIMEZONE
BEGIN:VEVENT
DTSTART;TZID=Europe/Berlin:20220406T140000
DTEND;TZID=Europe/Berlin:20220406T153000
DTSTAMP:20260420T181129
CREATED:20150411T094047Z
LAST-MODIFIED:20220602T182158Z
UID:25393-1649253600-1649259000@humanisticmanagement.network
SUMMARY:Methodological Workshop on Meaningful Humanistic Management Research
DESCRIPTION:The meaningfulness in research – that was the main topic at our April HMN Methodological workshop. The whole meeting was led by Katarzyna Kope? and Anna Góral divided into 3 parts. \nThe first one\, after a brief introduction\, focused on our plans for 2022. Then\, a short talk about reasons for humanistic management research followed – Anna Góral shared her recent stories about academic challenges connected with “conflict” between the University “points” and prestige versus the researcher satisfaction and ethics. \nIn the second part all participants had the chance to share their approach. We did a short introduction talking about our research and academic interests. Then\, each group (4-5 people from different backgrounds) discussed main topics: what is a meaningful research and how to measure this? What makes the humanistic management humanistic: theme\, methodology\, the potential for a change\, or maybe all of the above? \nLast but not least\, chairs of the groups shared the effects of the discussions. The fundamentals of humanistic management such as wide scope of perspectives\, topics\, trends were underlined. Then\, the questions followed: how do we measure the meaningfulness and is it even measurable? Is the impact always meaningful and is it most important? And simply – is it even a good idea to measure humanistic values? \nThe meeting was ended with an announcement of future plans (suggesting the guests-participants of next\, may’s discussion) and an invitation to work on a joined publication. \nThe meeting was attended by 22 people from 6 countries (Poland\, Austria\, Switzerland\, India\, Nigeria\, South Africa). \n  \nReport authors: Maria Pieniazek & Jakub Wydra. \n  \nThis research was funded by the Priority Research Area Heritage under the program Excellence Initiative – Research University at the Jagiellonian University in Krakow.
URL:http://humanisticmanagement.network/event/methodological-workshop-on-the-meaningful-humanistic-management-research/
LOCATION:Online
CATEGORIES:Past Events
ATTACH;FMTTYPE=image/png:http://humanisticmanagement.network/wp-content/uploads/2022/04/HMN-Methodology-Workshop-06042022.png
END:VEVENT
END:VCALENDAR