BEGIN:VCALENDAR
VERSION:2.0
PRODID:-//Humanistic Management Network - ECPv6.15.12.1//NONSGML v1.0//EN
CALSCALE:GREGORIAN
METHOD:PUBLISH
X-WR-CALNAME:Humanistic Management Network
X-ORIGINAL-URL:http://humanisticmanagement.network
X-WR-CALDESC:Events for Humanistic Management Network
REFRESH-INTERVAL;VALUE=DURATION:PT1H
X-Robots-Tag:noindex
X-PUBLISHED-TTL:PT1H
BEGIN:VTIMEZONE
TZID:Europe/Berlin
BEGIN:DAYLIGHT
TZOFFSETFROM:+0100
TZOFFSETTO:+0200
TZNAME:CEST
DTSTART:20210328T010000
END:DAYLIGHT
BEGIN:STANDARD
TZOFFSETFROM:+0200
TZOFFSETTO:+0100
TZNAME:CET
DTSTART:20211031T010000
END:STANDARD
BEGIN:DAYLIGHT
TZOFFSETFROM:+0100
TZOFFSETTO:+0200
TZNAME:CEST
DTSTART:20220327T010000
END:DAYLIGHT
BEGIN:STANDARD
TZOFFSETFROM:+0200
TZOFFSETTO:+0100
TZNAME:CET
DTSTART:20221030T010000
END:STANDARD
BEGIN:DAYLIGHT
TZOFFSETFROM:+0100
TZOFFSETTO:+0200
TZNAME:CEST
DTSTART:20230326T010000
END:DAYLIGHT
BEGIN:STANDARD
TZOFFSETFROM:+0200
TZOFFSETTO:+0100
TZNAME:CET
DTSTART:20231029T010000
END:STANDARD
END:VTIMEZONE
BEGIN:VEVENT
DTSTART;TZID=Europe/Berlin:20220526T140000
DTEND;TZID=Europe/Berlin:20220526T150000
DTSTAMP:20260420T163816
CREATED:20220602T183405Z
LAST-MODIFIED:20220602T183538Z
UID:26178-1653573600-1653577200@humanisticmanagement.network
SUMMARY:HMN Quarterly Meeting “The future of work – on fears and hopes”
DESCRIPTION:The main topic at our May Humanistic Management Network Internal webinar was “The future of work – on fears and hopes”. The meeting started with a short information considering Artificial Intelligence and introduction of the panelists: Anna Suchocka\, Kemi Ogunyemi and Carlos Largacha-Martinez. The meeting was divided in two parts: presentations by speakers and short Q&A. \nAnna Suchocka was sharing results of her research about remote work in Polish public sector. In the beginning\, before the pandemic both employees and employers felt good with it; situation changed slowly with deevaluation and depratiation of remote work. Anna underscored the new\, important need for sensitivity on the “user” side in the age of inevitable technological progress and postpandemic liquidity of reality. \nKemi Ogunyemi did a presentation considering her and Adaora I. Onaga’s book “Responsible Management of Shifts in Work Modes – Values for a Post Pandemic Future“\, in which she pointed out the blurr between office and home time\, efficiency of the employees work and how it’s connected with their well-being. Talking about the shift of the values\, she asked how to translate the culture to the remote models in ethical\, considerable way. \nCarlos Largacha-Martinez considered both hopes and challenges rising from the usage of Argumented Intelligence – AI that needs to understand the valuses\, ethics and be created with human centred focus. Accenting the difference between the organizational flourishment and the happiness\, he pointed out the synchronisity and mutual help that such coexistance can give. \n  \nThe meeting was attended by 35 people from 7 countries (Poland\, Austria\, Switzerland\, Quatar\, Nigeria\, South Africa\, Japan). \n  \nReport authors: Maria Pieniazek & Jakub Wydra. \n  \nThis research was funded by the Priority Research Area Heritage under the program Excellence Initiative – Research University at the Jagiellonian University in Krakow.
URL:http://humanisticmanagement.network/event/hmn-quarterly-meeting-the-future-of-work-on-fears-and-hopes/
LOCATION:Online
CATEGORIES:Past Events
ATTACH;FMTTYPE=image/png:http://humanisticmanagement.network/wp-content/uploads/2022/06/FoW-Event-Pic.png
END:VEVENT
END:VCALENDAR