BEGIN:VCALENDAR
VERSION:2.0
PRODID:-//Humanistic Management Network - ECPv6.15.12.1//NONSGML v1.0//EN
CALSCALE:GREGORIAN
METHOD:PUBLISH
X-ORIGINAL-URL:http://humanisticmanagement.network
X-WR-CALDESC:Events for Humanistic Management Network
REFRESH-INTERVAL;VALUE=DURATION:PT1H
X-Robots-Tag:noindex
X-PUBLISHED-TTL:PT1H
BEGIN:VTIMEZONE
TZID:Asia/Kolkata
BEGIN:STANDARD
TZOFFSETFROM:+0530
TZOFFSETTO:+0530
TZNAME:IST
DTSTART:20220101T000000
END:STANDARD
END:VTIMEZONE
BEGIN:VEVENT
DTSTART;VALUE=DATE:20231025
DTEND;VALUE=DATE:20231102
DTSTAMP:20260422T185652
CREATED:20230814T080703Z
LAST-MODIFIED:20231208T131629Z
UID:29690-1698192000-1698883199@humanisticmanagement.network
SUMMARY:HMN 2023 India Tour
DESCRIPTION:By invitation only\, key members of the the HMN went on a conference tour across India from the 25th October to the 1st November 2023. The tour consisted of six Humanistic Management events in five cities during eight days at top business schools in Bangalore\, Greater Noida (Delhi Metropolitan Area)\, Mumbai and Nagpur. \nUnder the leadership and initiative of the India Chapter lead of the Humanistic Management Network\, Dr. Shiv K. Tripathi we could offer this truly unique experiential learning journey engaging with business practitioners and academics in the world’s most populous country\, its largest democracy\, one of the fastest growing powers in geostrategic influence and one of the most active chapters of the Humanistic Management Network: India. Participants had: \n\ninteresting speaker engagements and networking opportunities\nthe opportunity to spend time with other humanistic management leaders\nmade a positive impact by sharing their knowledge and experiences\n\nHumanistic Management India Tour: Because together we make impact towards a more sustainable and more equitable planet. \n  \n\nView the tour Brochure
URL:http://humanisticmanagement.network/event/hmn-2023-india-tour/
LOCATION:Various Locations in India\, India
CATEGORIES:Past Events
ATTACH;FMTTYPE=image/png:http://humanisticmanagement.network/wp-content/uploads/2023/10/HMN-India-Tour-website-pic.png
END:VEVENT
BEGIN:VEVENT
DTSTART;VALUE=DATE:20231027
DTEND;VALUE=DATE:20231028
DTSTAMP:20260422T185653
CREATED:20230804T074620Z
LAST-MODIFIED:20231112T074218Z
UID:29616-1698364800-1698451199@humanisticmanagement.network
SUMMARY:2023 Annual Humanistic Management Conference
DESCRIPTION:The 11th Annual Humanistic Management Conference will take place on October 27th 2023 at Indian Institute of Management (IIM) Nagpur on the topic of Heritage\, Legacy and Humanistic Management. \n \nCorporate heritage and legacy are increasingly seen as having strategic relevance to business organizations while approaches to managing heritage and legacy differ greatly. Consequently\, the Humanistic Management Network jointly with its conference partner IIM Nagpur is aiming to raise our understanding of the topic during this 2023 meeting of our Humanistic Management community.\n \nPlease visit the conference webpage for your free registration: \nVisit the 2023 Conference Website
URL:http://humanisticmanagement.network/event/2023-annual-humanistic-management-conference/
LOCATION:Indian Instiute of Management (IIM) Nagpur\, Unnamed Road\, MIHAN\, Nagpur\, Maharashtra\, 441108\, India
CATEGORIES:Past Events
ATTACH;FMTTYPE=image/png:http://humanisticmanagement.network/wp-content/uploads/2023/08/2023-HMConf-Website-event-pic.png
END:VEVENT
END:VCALENDAR