BEGIN:VCALENDAR
VERSION:2.0
PRODID:-//Humanistic Management Network - ECPv6.15.12.1//NONSGML v1.0//EN
CALSCALE:GREGORIAN
METHOD:PUBLISH
X-WR-CALNAME:Humanistic Management Network
X-ORIGINAL-URL:http://humanisticmanagement.network
X-WR-CALDESC:Events for Humanistic Management Network
REFRESH-INTERVAL;VALUE=DURATION:PT1H
X-Robots-Tag:noindex
X-PUBLISHED-TTL:PT1H
BEGIN:VTIMEZONE
TZID:Asia/Kolkata
BEGIN:STANDARD
TZOFFSETFROM:+0530
TZOFFSETTO:+0530
TZNAME:IST
DTSTART:20220101T000000
END:STANDARD
END:VTIMEZONE
BEGIN:VEVENT
DTSTART;TZID=Asia/Kolkata:20231122T120000
DTEND;TZID=Asia/Kolkata:20231122T133000
DTSTAMP:20260422T202623
CREATED:20240128T092047Z
LAST-MODIFIED:20240128T092047Z
UID:31349-1700654400-1700659800@humanisticmanagement.network
SUMMARY:Balancing Business Objectives and Employees’ Needs
DESCRIPTION:On Wednesday\, 22nd November 2023\, The Humanistic Management Network Nigeria Chapter organized a webinar with the theme titled “Balancing Business Objectives and Employees’ Needs”. Dr. Adaora Onaga\, the Chapter Lead HMN Nigeria gave the welcome address and a brief history of HMN Nigeria.\n \nShe also talked about the background of the theme whose objective is to shed more light on the systematic and practical approaches for business and organizational managers and leaders to align their business objectives with the needs of their workforce/human capital\, as well as how to evaluate the ensuing results and impact of their actions. \nThe moderators\, Mrs. Enitan Oteju Ibironke and Dr. Adeleke Adedeji gave a brief introduction of the two guest speakers\, Dr. Emeka Osuji (Associate Professor of Economics\, Pan-Atlantic University\, Lagos\, Nigeria) and Mr. Olusoji Adeniyi (Former Chairman\, United Nations Pensions Fund). \nThe speakers addressed the potential trade-offs\, conflicts and ethical dilemmas that may arise in the process of creating this important corporate equilibrium\, and advanced ways and means through which they may be addressed in a more responsible and sustainable manner. \nThere was a very interactive Q&A session anchored by the moderators after which Dr. Adaora Onaga gave the closing remarks to end the webinar.
URL:http://humanisticmanagement.network/event/balancing-business-objectives-and-employees-needs/
LOCATION:Online
CATEGORIES:Past Events
ATTACH;FMTTYPE=image/png:http://humanisticmanagement.network/wp-content/uploads/2024/01/balancing-nigeria-event-pic.png
END:VEVENT
END:VCALENDAR