BEGIN:VCALENDAR
VERSION:2.0
PRODID:-//Humanistic Management Network - ECPv6.15.12.1//NONSGML v1.0//EN
CALSCALE:GREGORIAN
METHOD:PUBLISH
X-WR-CALNAME:Humanistic Management Network
X-ORIGINAL-URL:http://humanisticmanagement.network
X-WR-CALDESC:Events for Humanistic Management Network
REFRESH-INTERVAL;VALUE=DURATION:PT1H
X-Robots-Tag:noindex
X-PUBLISHED-TTL:PT1H
BEGIN:VTIMEZONE
TZID:Europe/Amsterdam
BEGIN:DAYLIGHT
TZOFFSETFROM:+0100
TZOFFSETTO:+0200
TZNAME:CEST
DTSTART:20230326T010000
END:DAYLIGHT
BEGIN:STANDARD
TZOFFSETFROM:+0200
TZOFFSETTO:+0100
TZNAME:CET
DTSTART:20231029T010000
END:STANDARD
BEGIN:DAYLIGHT
TZOFFSETFROM:+0100
TZOFFSETTO:+0200
TZNAME:CEST
DTSTART:20240331T010000
END:DAYLIGHT
BEGIN:STANDARD
TZOFFSETFROM:+0200
TZOFFSETTO:+0100
TZNAME:CET
DTSTART:20241027T010000
END:STANDARD
BEGIN:DAYLIGHT
TZOFFSETFROM:+0100
TZOFFSETTO:+0200
TZNAME:CEST
DTSTART:20250330T010000
END:DAYLIGHT
BEGIN:STANDARD
TZOFFSETFROM:+0200
TZOFFSETTO:+0100
TZNAME:CET
DTSTART:20251026T010000
END:STANDARD
END:VTIMEZONE
BEGIN:VEVENT
DTSTART;TZID=Europe/Amsterdam:20240202T110000
DTEND;TZID=Europe/Amsterdam:20240202T120000
DTSTAMP:20260422T233928
CREATED:20240102T205035Z
LAST-MODIFIED:20240216T092946Z
UID:31110-1706871600-1706875200@humanisticmanagement.network
SUMMARY:Humanistic Leadership Webinar by our Dutch Chapter
DESCRIPTION:Do you believe human dignity should play a role in the daily leadership practice? Is the wellbeing of your team members of paramount importance to you? If so\, this webinar was for you to learn more about humanistic leadership\, our international network\, and what you can do to support our mission. \nIn this one hour webinar\, Matthijs and Danaë introduced humanistic leadership as a human dignity based way of leading. In modernity\, most of us take the dominant economistic perspective on leading and organizing for granted; people are selfish and rational\, and will always try to maximize their own personal benefits. The humanistic perspective does not accept this view of human nature and introduces homo florens instead: a thriving human being\, aiming to flourish within the planetary boundaries while respecting the human dignity of all stakeholders\, including past\, present and future generations. Putting human dignity at the core of human nature requires new ways of leading and organizing. Humanistic leadership offers insights for leaders that aim for collective wellbeing while protecting and promoting human dignity. Join us to learn more! \nPlease view the event flyer for registration information: \nView the Event Flyer\n  \nBio Matthijs \nMatthijs Bal is a professor of Responsible Management at the Lincoln International Business School\, University of Lincoln\, United Kingdom. Prior to joining Lincoln\, he was affiliated to the University of Bath UK\, VU University Amsterdam\, and Erasmus University Rotterdam. His research interests concern workplace dignity\, ideology\, the future of work\, and workplace democracy. Matthijs’ current activities and research focus on how workplaces can be radically transformed to ensure greater dignity and sustainability not just of people\, but of everything that exists on our planet. \n  \nBio Danaë \nDanaë Huijser is an external PhD researcher at the University of Humanistic Studies. Her focus is on international humanistic management\, specifically on the promotion of human dignity in intercultural teams. Her research aims to explore the potential of the Humanistic Management Model to support global leaders in promoting human dignity in culturally diverse teams. Danaë is an organizational psychologist and independent trainer at Caleidoscope Academy\, supporting intercultural team leaders and members in dealing with individual and cultural differences.
URL:http://humanisticmanagement.network/event/humanistic-leadership-webinar-by-our-dutch-chapter/
LOCATION:Online
CATEGORIES:Past Events
ATTACH;FMTTYPE=image/png:http://humanisticmanagement.network/wp-content/uploads/2024/01/NL-Webinar-Event-pic0202.png
END:VEVENT
END:VCALENDAR