BEGIN:VCALENDAR
VERSION:2.0
PRODID:-//Humanistic Management Network - ECPv6.15.12.1//NONSGML v1.0//EN
CALSCALE:GREGORIAN
METHOD:PUBLISH
X-ORIGINAL-URL:http://humanisticmanagement.network
X-WR-CALDESC:Events for Humanistic Management Network
REFRESH-INTERVAL;VALUE=DURATION:PT1H
X-Robots-Tag:noindex
X-PUBLISHED-TTL:PT1H
BEGIN:VTIMEZONE
TZID:Africa/Johannesburg
BEGIN:STANDARD
TZOFFSETFROM:+0200
TZOFFSETTO:+0200
TZNAME:SAST
DTSTART:20230101T000000
END:STANDARD
END:VTIMEZONE
BEGIN:VEVENT
DTSTART;TZID=Africa/Johannesburg:20241128T180000
DTEND;TZID=Africa/Johannesburg:20241128T193000
DTSTAMP:20260423T121657
CREATED:20241105T110318Z
LAST-MODIFIED:20241222T153054Z
UID:34993-1732816800-1732822200@humanisticmanagement.network
SUMMARY:AI\, Ethics\, and Inclusivity: Insights from African Perspectives for Human-centred Workplaces
DESCRIPTION:AI\, Ethics\, and Inclusivity: Insights from African Perspectives for Human-centred Workplaces \nThis webinar will delve into the world of artificial intelligence and its impact on creating inclusive and human-centred work environments. Learn about the ethical considerations and best practices for incorporating AI in your work while prioritising inclusivity. \nDon’t miss out on this opportunity to engage with experts in the field and gain valuable insights into navigating the intersection of AI\, ethics and inclusion. \nRecording \nYou can watch a recording of the event on our video channel under: AI\, Ethics\, and Inclusivity recording
URL:http://humanisticmanagement.network/event/ai-ethics-and-inclusivity-insights-from-african-perspectives-for-human-centred-workplaces/
LOCATION:Online
CATEGORIES:Past Events
ATTACH;FMTTYPE=image/png:http://humanisticmanagement.network/wp-content/uploads/2024/11/Ai-Africa-event-page-pic.png
END:VEVENT
END:VCALENDAR