BEGIN:VCALENDAR
VERSION:2.0
PRODID:-//Humanistic Management Network - ECPv6.15.12.1//NONSGML v1.0//EN
CALSCALE:GREGORIAN
METHOD:PUBLISH
X-WR-CALNAME:Humanistic Management Network
X-ORIGINAL-URL:http://humanisticmanagement.network
X-WR-CALDESC:Events for Humanistic Management Network
REFRESH-INTERVAL;VALUE=DURATION:PT1H
X-Robots-Tag:noindex
X-PUBLISHED-TTL:PT1H
BEGIN:VTIMEZONE
TZID:Europe/Berlin
BEGIN:DAYLIGHT
TZOFFSETFROM:+0100
TZOFFSETTO:+0200
TZNAME:CEST
DTSTART:20200329T010000
END:DAYLIGHT
BEGIN:STANDARD
TZOFFSETFROM:+0200
TZOFFSETTO:+0100
TZNAME:CET
DTSTART:20201025T010000
END:STANDARD
BEGIN:DAYLIGHT
TZOFFSETFROM:+0100
TZOFFSETTO:+0200
TZNAME:CEST
DTSTART:20210328T010000
END:DAYLIGHT
BEGIN:STANDARD
TZOFFSETFROM:+0200
TZOFFSETTO:+0100
TZNAME:CET
DTSTART:20211031T010000
END:STANDARD
BEGIN:DAYLIGHT
TZOFFSETFROM:+0100
TZOFFSETTO:+0200
TZNAME:CEST
DTSTART:20220327T010000
END:DAYLIGHT
BEGIN:STANDARD
TZOFFSETFROM:+0200
TZOFFSETTO:+0100
TZNAME:CET
DTSTART:20221030T010000
END:STANDARD
END:VTIMEZONE
BEGIN:VEVENT
DTSTART;VALUE=DATE:20211124
DTEND;VALUE=DATE:20211127
DTSTAMP:20260422T182952
CREATED:20210912T175009Z
LAST-MODIFIED:20220211T135142Z
UID:24052-1637712000-1637971199@humanisticmanagement.network
SUMMARY:2021 Annual Humanistic Management Conference taking place online
DESCRIPTION:The 2021 Ninth Annual Humanistic Management Conference will take place online and is brought to you by our Chapters from around the world on the theme of Solutions.  \nWe all use the word solution numerous times on any single day and yet we may not always have a clear view on what actually is a solution. We want to hire solution-oriented people to join our organizations; we want politicians to offer solutions to the challenges we face; we want businesses to provide products and services that deliver solutions; and we ourselves want to feel productive by developing and implementing solutions. But who will be able to derive meaningful benefits from those solutions? Who determines what resources are provided for solutions geared towards maintaining the status quo versus those challenging it? \nSolutions are wanting in this world\, but what differentiates a solution from a quick fix or a remedy\, (how) can we know if a hailed solution will create adverse side effects? For how long must a solution provide a solution to be a solution? Why are we so receptive for the temptations of solutionist narratives? \nThese are some of the questions we will discuss at this year’s edition of the Annual Humanistic Management Conference\, but to enrich our practical understanding of the theme\, we shall also provide plenty of examples of policies\, organizations and individuals that deliver solutions aligned to Humanistic Management principles. \n  \nView the Conference Website
URL:http://humanisticmanagement.network/event/2021-annual-humanistic-management-conference-taking-place-online/
LOCATION:Online
CATEGORIES:Past Events
ATTACH;FMTTYPE=image/gif:http://humanisticmanagement.network/wp-content/uploads/2021/09/2021-HMN-Confernce-banner-I-HMN-website.gif
END:VEVENT
END:VCALENDAR